BEGIN:VCALENDAR
VERSION:2.0
PRODID:-//Religions for Peace Deutschland - ECPv6.8.1//NONSGML v1.0//EN
CALSCALE:GREGORIAN
METHOD:PUBLISH
X-ORIGINAL-URL:https://religionsforpeace-deutschland.de
X-WR-CALDESC:Veranstaltungen für Religions for Peace Deutschland
REFRESH-INTERVAL;VALUE=DURATION:PT1H
X-Robots-Tag:noindex
X-PUBLISHED-TTL:PT1H
BEGIN:VTIMEZONE
TZID:Europe/Helsinki
BEGIN:DAYLIGHT
TZOFFSETFROM:+0200
TZOFFSETTO:+0300
TZNAME:EEST
DTSTART:20240331T010000
END:DAYLIGHT
BEGIN:STANDARD
TZOFFSETFROM:+0300
TZOFFSETTO:+0200
TZNAME:EET
DTSTART:20241027T010000
END:STANDARD
BEGIN:DAYLIGHT
TZOFFSETFROM:+0200
TZOFFSETTO:+0300
TZNAME:EEST
DTSTART:20250330T010000
END:DAYLIGHT
BEGIN:STANDARD
TZOFFSETFROM:+0300
TZOFFSETTO:+0200
TZNAME:EET
DTSTART:20251026T010000
END:STANDARD
BEGIN:DAYLIGHT
TZOFFSETFROM:+0200
TZOFFSETTO:+0300
TZNAME:EEST
DTSTART:20260329T010000
END:DAYLIGHT
BEGIN:STANDARD
TZOFFSETFROM:+0300
TZOFFSETTO:+0200
TZNAME:EET
DTSTART:20261025T010000
END:STANDARD
END:VTIMEZONE
BEGIN:VEVENT
DTSTART;TZID=Europe/Helsinki:20260414T190000
DTEND;TZID=Europe/Helsinki:20260414T190000
DTSTAMP:20260421T005925
CREATED:20260327T121931Z
LAST-MODIFIED:20260327T122112Z
UID:10000063-1776193200-1776193200@religionsforpeace-deutschland.de
SUMMARY:Verleihung des Reinhard-Kellner-Friedenspreises
DESCRIPTION:Der Dachverband der Sozialen Initiativen Regensburg e.V. verleiht an Dr. Gustav Rosenstein\, Gründer der Ortsgruppe von Religions for Peace (RfP) Deutschland e.V.\, den Reinhard-Kellner-Friedenspreis.  \nVon Martina Groh-Schad \nRegensburg – Für sein jahrzehntelanges Engagement für den interreligiösen Dialog in Regensburg verleiht der Dachverband der Sozialen Initiativen e.V. den Reinhard-Kellner-Friedenspreis an den Dr. Gustav Rosenstein.  Der evangelische Theologe hat vor mehr als 35 Jahren die Ortsgruppe von Religions for Peace Deutschland e.V. gegründet und damit den Grundstein für den Austausch der Religionen in Regensburg gelegt. Über Jahrzehnte organisierte Rosenstein monatliche Treffen von Geistlichen und aktiven Gemeindemitgliedern von christlichen\, buddhistischen\, muslimischen\, jüdischen und orthodoxen Religionsgemeinschaften in stets wechselnden Gemeinden. Daraus entstand ein Netzwerk der Religionen\, das bist heute in der Domstadt durch regelmäßige Treffen\, Veranstaltungen und ein jährliches interreligiöses Friedensgebet gepflegt wird. \nDer Reinhard-Kellner-Friedenspreis geht zurück auf den Gründer des Dachverbands der Sozialen Initiativen e.V. Reinhard Kellner\, der diesen vor 51 Jahren gemeinsam mit anderen ins Leben gerufen hat. Kellner starb am 1. Mai 2025 im Alter von 74 Jahren. Schnell wurde der Ruf von Seiten seiner Mitgliedsvereine laut\, sein Engagement auch mit einem Preis zu verbinden. Kellner war zeitlebens für den Frieden aktiv\, weil er die Überzeugung vertreten hat\, dass soziale Gerechtigkeit und Frieden maßgeblich für ein gutes Zusammenleben in einer Stadtgesellschaft sind. Dafür nahm er über viele Jahre als sozialer Vertreter regelmäßig an den Treffen der Ortsgruppe Religions for Peace teil und war hier reger Mitdiskutant\, der oft einen anderen Blickwinkel einbrachte. Dr. Gustav Rosenstein charakterisierte das Verhältnis zwischen ihm und Kellner in einer ersten Stellungnahme mit dem Ausspruch „getrennt marschieren\, gemeinsam schlagen“. Man sei oft unterschiedlicher Meinung gewesen. Doch genau darum gehe es\, in den Dialog zu gehen und trotzdem zu einem guten Miteinander und Austausch zu finden. \nDer Reinhard-Kellner-Friedenspreis wird in diesem Jahr erstmals verliehen und ist als Wandertrophäe konzipiert. Er ist einer gotischen Säule nachempfunden\, die anlässlich eines Stadtfestes unter dem Motto Friedenstraum meterhoch von Kindern und Jugendlichen gestaltet wurde. Das Original steht heute im Forum des Fördervereins von Aktion Kultur Sozial e.V. in Regensburg in der Roten-Hahnen-Gasse in der Nähe des Haidplatzes. Die Säule mit dem Namen „Friedenstraum“ wurde für den Preis in Klein nachgebildet und gemeinsam von den Sozialen Initiativen e.V. und dem Lions Club Castra Regina gestiftet. Er ist detailreich ausgestaltet und in den Sockel werden die Namen der Preisträger eingraviert. Als Erster wird hier nun künftig Dr. Gustav Rosenstein genannt werden. \nZur Preisverleihung am 14.4. um 19 Uhr im Regensburger Emmeramforum wird von Seiten des Dachverbandes Religions for Peace Deutschland e.V. Dr. Martin Affolderbach erwartet\, der in einer Rede das Engagement von Rosenstein würdigen wird. Für die Stadt Regensburg wird Oberbürgermeisterin Gertrud Maltz-Schwarzfischer eine Laudatio halten. Zur Preisverleihung\, die auf Wunsch des Preisträgers im kleinen Rahmen vollzogen wird\, werden zahlreiche Wegbegleiter und Vertreter von Regensburger Religionsgemeinschaften erwartet. Rosenstein gilt als bescheidener Macher im Hintergrund.
URL:https://religionsforpeace-deutschland.de/termin/verleihung-des-reinhard-kellner-friedenspreises/
LOCATION:Regensburger Emmeramforum\, Emmeramsplatz 3\, Regensburg\, 93047\, Germany
ATTACH;FMTTYPE=image/jpeg:https://religionsforpeace-deutschland.de/wp-content/uploads/2026/03/IMG_1146-MGS-Regensburg-Friedensgebet-2024.jpeg
END:VEVENT
BEGIN:VEVENT
DTSTART;TZID=Europe/Helsinki:20251113T183000
DTEND;TZID=Europe/Helsinki:20251113T193000
DTSTAMP:20260421T005925
CREATED:20260105T092640Z
LAST-MODIFIED:20260113T232017Z
UID:10000044-1763058600-1763062200@religionsforpeace-deutschland.de
SUMMARY:Interreligiöser Dialog hier und jetzt
DESCRIPTION:Ins Gespräch kommen und eigene Perspektiven weiten.\nDonnerstag\, 13. November 2025\, 18.30 Uhr bis ca. 19.30 Uhr via Zoom. \nThemenvorschlag: Was ist religiöse Wahrheit?
URL:https://religionsforpeace-deutschland.de/termin/interreligioesen-dialog-hier-und-jetzt-3/
LOCATION:
END:VEVENT
BEGIN:VEVENT
DTSTART;TZID=Europe/Helsinki:20250917T170000
DTEND;TZID=Europe/Helsinki:20250917T190000
DTSTAMP:20260421T005925
CREATED:20250627T093857Z
LAST-MODIFIED:20250627T094230Z
UID:10000041-1758128400-1758135600@religionsforpeace-deutschland.de
SUMMARY:Treffen Projektgruppe Interreligiöse Bildung
DESCRIPTION:Treffen der Arbeitsgruppe Interreligiöse Bildung (Leitung: Prof. Dr. Johannes Lähnemann) im Zoom \nAm Mittwoch\, 17. September 17:00 – 19:00 Uhr stellt Dr. Jasmin Kriesten ihre Dissertation „Kindliche Friedensvorstellungen als Ausgangspunkt religionspädagogischen Handelns“ vor. \n\nAnmelden bitte unter:johannes.laehnemann@gmail.com
URL:https://religionsforpeace-deutschland.de/termin/treffen-projektgruppe-interreligioese-bildung-2/
LOCATION:Online
ATTACH;FMTTYPE=image/png:https://religionsforpeace-deutschland.de/wp-content/uploads/2025/03/25-03-4o9X_Interreligioese-Bildung-wortwolke.png
END:VEVENT
BEGIN:VEVENT
DTSTART;TZID=Europe/Helsinki:20250618T170000
DTEND;TZID=Europe/Helsinki:20250618T190000
DTSTAMP:20260421T005925
CREATED:20250627T094035Z
LAST-MODIFIED:20250627T094140Z
UID:10000042-1750266000-1750273200@religionsforpeace-deutschland.de
SUMMARY:Treffen Projektgruppe Interreligiöse Bildung
DESCRIPTION:Treffen der Arbeitsgruppe Interreligiöse Bildung (Leitung: Prof. Dr. Johannes Lähnemann) im Zoom \nWir wollen uns mit der jüngsten und umfassendsten Publikation zu den Themenfeldern unserer Arbeit beschäftigen. Es ist das 2024 bei Springer herausgekommene Handbuch Religion in Konflikten und Friedensprozessen\, herausgegeben von Ines-Jacqueline Werkner. \n\nAnmelden bitte unter:johannes.laehnemann@gmail.com
URL:https://religionsforpeace-deutschland.de/termin/treffen-projektgruppe-interreligioese-bildung-3/
LOCATION:Online
ATTACH;FMTTYPE=image/png:https://religionsforpeace-deutschland.de/wp-content/uploads/2025/03/25-03-4o9X_Interreligioese-Bildung-wortwolke.png
END:VEVENT
BEGIN:VEVENT
DTSTART;TZID=Europe/Helsinki:20250508T183000
DTEND;TZID=Europe/Helsinki:20250508T193000
DTSTAMP:20260421T005925
CREATED:20250428T214148Z
LAST-MODIFIED:20260113T233528Z
UID:10000037-1746729000-1746732600@religionsforpeace-deutschland.de
SUMMARY:Interreligiöser Dialog hier und jetzt
DESCRIPTION:Ins Gespräch kommen und eigene Perspektiven weiten\nThema: Was bedeutet der Tod von Papst Franziskus für mich? \nZeit: Donnerstag\, 08. Mai 2025\, 18.30 Uhr bis ca. 19.30 Uhr \nOrt: Online via Zoom; bei Interesse bitte anmelden bei michael.a.schmiedel@gmx.de
URL:https://religionsforpeace-deutschland.de/termin/interreligioeser-dialog-hier-und-jetzt-2-2/
ATTACH;FMTTYPE=image/jpeg:https://religionsforpeace-deutschland.de/wp-content/uploads/2025/03/dialog-scaled.jpg
LOCATION:
END:VEVENT
BEGIN:VEVENT
DTSTART;TZID=Europe/Helsinki:20250430T170000
DTEND;TZID=Europe/Helsinki:20250503T180000
DTSTAMP:20260421T005925
CREATED:20250216T224157Z
LAST-MODIFIED:20250216T224421Z
UID:10000024-1746032400-1746295200@religionsforpeace-deutschland.de
SUMMARY:RfP Deutschland auf dem Deutschen Evangelischen Kirchentag Hannover
DESCRIPTION:Vom 30. April bis zum 4. Mai 2025 findet der Deutsche Evangelische Kirchentag (DEKT) in Hannover statt. Religions for Peace Deutschland wird vertreten sein:\nMit einem eigenen Informationsstand auf dem Markt der Möglichkeiten von Mittwoch Abend bis Samstag Abend. Hier können sie Mitglieder ansprechen und sich über unsere Arbeit informieren.\n\nhttps://www.kirchentag.de/programm/pgd/programmsuche#session/381110101/Y.MDA-S1I
URL:https://religionsforpeace-deutschland.de/termin/rfp-deutschland-auf-dem-deutschen-evangelischen-kirchentag-hannover/
LOCATION:Kirchentag Hannover
ATTACH;FMTTYPE=image/jpeg:https://religionsforpeace-deutschland.de/wp-content/uploads/2025/02/Kirchentag.jpeg
END:VEVENT
BEGIN:VEVENT
DTSTART;TZID=Europe/Helsinki:20250402T170000
DTEND;TZID=Europe/Helsinki:20250402T190000
DTSTAMP:20260421T005925
CREATED:20250305T222347Z
LAST-MODIFIED:20250305T222347Z
UID:10000031-1743613200-1743620400@religionsforpeace-deutschland.de
SUMMARY:Treffen Projektgruppe Interreligiöse Bildung
DESCRIPTION:Wir treffen uns am Mittwoch\, den 2. April 2025\, 17.00-19.00 Uhr\nReferent: Prof. Dr. Friedrich Schweitzer zum Thema: ‚Eine Kita für alle Religionen‘\nAnmeldung mit Zusendung des Zoom-Links an: johannes.laehnemann@gmail.com
URL:https://religionsforpeace-deutschland.de/termin/treffen-projektgruppe-interreligioese-bildung/
ATTACH;FMTTYPE=image/png:https://religionsforpeace-deutschland.de/wp-content/uploads/2025/03/25-03-4o9X_Interreligioese-Bildung-wortwolke.png
LOCATION:
END:VEVENT
BEGIN:VEVENT
DTSTART;TZID=Europe/Helsinki:20250109T183000
DTEND;TZID=Europe/Helsinki:20250109T193000
DTSTAMP:20260421T005925
CREATED:20250103T125058Z
LAST-MODIFIED:20250103T125058Z
UID:10000013-1736447400-1736451000@religionsforpeace-deutschland.de
SUMMARY:Interreligiösen Dialog hier und jetzt
DESCRIPTION:Ins Gespräch kommen und eigene Perspektiven weiten\nVeranstalter: RfP Deutschland\nThema: Was erwarten wir vom Jahr 2025?\nOrt: Zoom Konferenz\nbei Interesse bitte anmelden bei:  michael.a.schmiedel@gmx.de
URL:https://religionsforpeace-deutschland.de/termin/interreligioesen-dialog-hier-und-jetzt/
ATTACH;FMTTYPE=image/jpeg:https://religionsforpeace-deutschland.de/wp-content/uploads/2025/01/2025-scaled.jpg
END:VEVENT
BEGIN:VEVENT
DTSTART;TZID=Europe/Helsinki:20250109T180000
DTEND;TZID=Europe/Helsinki:20250109T200000
DTSTAMP:20260421T005925
CREATED:20250130T112121Z
LAST-MODIFIED:20250130T112144Z
UID:10000014-1736445600-1736452800@religionsforpeace-deutschland.de
SUMMARY:Regensburg und seine Muslime
DESCRIPTION:Podiumsdiskussions-Reihe\nThema: Wahlen im Februar\nOrt: Alumneum Bonhoeffersaal\, Am Ölberg 2\, 93047 Regensburg\nZeit: 18:00\nZeineb Sassi\, Soufiane Mouncir (Muslimisches Bildungswerk)
URL:https://religionsforpeace-deutschland.de/termin/regensburg-und-seine-muslime/
END:VEVENT
BEGIN:VEVENT
DTSTART;VALUE=DATE:20241107
DTEND;VALUE=DATE:20241108
DTSTAMP:20260421T005925
CREATED:20241008T195736Z
LAST-MODIFIED:20241008T195736Z
UID:10000008-1730937600-1731023999@religionsforpeace-deutschland.de
SUMMARY:Interreligiöser Dialog
DESCRIPTION:Interreligiöser Dialog hier und jetzt: Ins Gespräch kommen und eigene Perspektiven weiten\nVeranstalter: RfP Deutschland\nThema: Offener Austausch \nZoom-Konferenz; bei Interesse bitte anmelden bei michael.aschmiedel@gmx.de
URL:https://religionsforpeace-deutschland.de/termin/interreligioeser-dialog/
END:VEVENT
END:VCALENDAR